BEGIN:VCALENDAR
VERSION:2.0
PRODID:-//Grace Evangelical Lutheran Church - ECPv6.15.20//NONSGML v1.0//EN
CALSCALE:GREGORIAN
METHOD:PUBLISH
X-ORIGINAL-URL:https://www.gracelutheranshamokin.org
X-WR-CALDESC:Events for Grace Evangelical Lutheran Church
REFRESH-INTERVAL;VALUE=DURATION:PT1H
X-Robots-Tag:noindex
X-PUBLISHED-TTL:PT1H
BEGIN:VTIMEZONE
TZID:America/New_York
BEGIN:DAYLIGHT
TZOFFSETFROM:-0500
TZOFFSETTO:-0400
TZNAME:EDT
DTSTART:20210314T070000
END:DAYLIGHT
BEGIN:STANDARD
TZOFFSETFROM:-0400
TZOFFSETTO:-0500
TZNAME:EST
DTSTART:20211107T060000
END:STANDARD
BEGIN:DAYLIGHT
TZOFFSETFROM:-0500
TZOFFSETTO:-0400
TZNAME:EDT
DTSTART:20220313T070000
END:DAYLIGHT
BEGIN:STANDARD
TZOFFSETFROM:-0400
TZOFFSETTO:-0500
TZNAME:EST
DTSTART:20221106T060000
END:STANDARD
BEGIN:DAYLIGHT
TZOFFSETFROM:-0500
TZOFFSETTO:-0400
TZNAME:EDT
DTSTART:20230312T070000
END:DAYLIGHT
BEGIN:STANDARD
TZOFFSETFROM:-0400
TZOFFSETTO:-0500
TZNAME:EST
DTSTART:20231105T060000
END:STANDARD
END:VTIMEZONE
BEGIN:VEVENT
DTSTART;VALUE=DATE:20221225
DTEND;VALUE=DATE:20221226
DTSTAMP:20260423T143323
CREATED:20221207T161823Z
LAST-MODIFIED:20221207T161823Z
UID:365-1671926400-1672012799@www.gracelutheranshamokin.org
SUMMARY:No Christmas Day Service
DESCRIPTION:
URL:https://www.gracelutheranshamokin.org/event/no-christmas-day-service/
END:VEVENT
BEGIN:VEVENT
DTSTART;TZID=America/New_York:20221224T160000
DTEND;TZID=America/New_York:20221224T170000
DTSTAMP:20260423T143323
CREATED:20221207T160841Z
LAST-MODIFIED:20221207T161948Z
UID:363-1671897600-1671901200@www.gracelutheranshamokin.org
SUMMARY:Christmas Eve Service
DESCRIPTION:
URL:https://www.gracelutheranshamokin.org/event/christmas-eve-service/
END:VEVENT
BEGIN:VEVENT
DTSTART;VALUE=DATE:20221211
DTEND;VALUE=DATE:20221212
DTSTAMP:20260423T143323
CREATED:20221027T192951Z
LAST-MODIFIED:20221027T192951Z
UID:339-1670716800-1670803199@www.gracelutheranshamokin.org
SUMMARY:Congregational Meeting
DESCRIPTION:There will be a congregational meeting Sunday December 11 after worship. The purpose of the meeting is to adopt a budget for 2023 and elect members to council.
URL:https://www.gracelutheranshamokin.org/event/congregational-meeting/
END:VEVENT
BEGIN:VEVENT
DTSTART;TZID=America/New_York:20221002T140000
DTEND;TZID=America/New_York:20221002T140000
DTSTAMP:20260423T143323
CREATED:20220908T002357Z
LAST-MODIFIED:20220908T004245Z
UID:293-1664719200-1664719200@www.gracelutheranshamokin.org
SUMMARY:Blessing of Pets
DESCRIPTION:Pastor Sarah will bless the pets on Sunday October 2 at 2:00 pm in the grassy area of Chestnut and Market Street. Bring your pet and invite your friends and neighbors to bring their pets for an individual blessing and treat. (People treats will also be available.)
URL:https://www.gracelutheranshamokin.org/event/blessing-of-pets/
END:VEVENT
BEGIN:VEVENT
DTSTART;TZID=America/New_York:20220918T113000
DTEND;TZID=America/New_York:20220918T113000
DTSTAMP:20260423T143323
CREATED:20220908T004620Z
LAST-MODIFIED:20220908T004620Z
UID:298-1663500600-1663500600@www.gracelutheranshamokin.org
SUMMARY:Congregational Dinner
DESCRIPTION:You are invited to a congregational dinner Sunday September 18 in the Fellowship Hall. Our “in house chef\, Jim Shingara” is going to prepare a roast beef dinner for everyone. Council is hosting the dinner in an effort to begin to get back to normal after the restrictions of Covid. \nA sign–up sheet is in the rear of the church or you can call the church office (570–648–7534) so we have an idea for buying the food.
URL:https://www.gracelutheranshamokin.org/event/congregational-dinner/
END:VEVENT
END:VCALENDAR